BEGIN:VCALENDAR
VERSION:2.0
PRODID:-//Contratero//ES
CALSCALE:GREGORIAN
METHOD:PUBLISH
BEGIN:VEVENT
UID:MAD-2024-03-21-Optimización Procesos (5100012985)@contratero.es
DTSTAMP:20260420T214105Z
DTSTART:20240426T235959
DTEND:20240427T005959
SUMMARY:Cierre: Contratación AM de consultoría para la optimizació
DESCRIPTION:Contratación AM de consultoría para la optimización y mejora de los procesos de Navantia\\n\\nOrganismo: Comité Central de Compras de Navantia S.A.\, S.M.E.\\n\\nVer en Contratero: https://contratero.es/contracts/MAD-2024-03-21-Optimización Procesos (5100012985)
URL:https://contratero.es/contracts/MAD-2024-03-21-Optimización Procesos (5100012985)
STATUS:CONFIRMED
BEGIN:VALARM
TRIGGER:-P1D
ACTION:DISPLAY
DESCRIPTION:Recordatorio: Contratación AM de consultoría
END:VALARM
END:VEVENT
END:VCALENDAR